BEGIN:VCALENDAR
VERSION:2.0
PRODID:-//Monmouth Bar Association - ECPv6.15.16//NONSGML v1.0//EN
CALSCALE:GREGORIAN
METHOD:PUBLISH
X-WR-CALNAME:Monmouth Bar Association
X-ORIGINAL-URL:https://monmouthbarassociation.com
X-WR-CALDESC:Events for Monmouth Bar Association
REFRESH-INTERVAL;VALUE=DURATION:PT1H
X-Robots-Tag:noindex
X-PUBLISHED-TTL:PT1H
BEGIN:VTIMEZONE
TZID:America/New_York
BEGIN:DAYLIGHT
TZOFFSETFROM:-0500
TZOFFSETTO:-0400
TZNAME:EDT
DTSTART:20250309T070000
END:DAYLIGHT
BEGIN:STANDARD
TZOFFSETFROM:-0400
TZOFFSETTO:-0500
TZNAME:EST
DTSTART:20251102T060000
END:STANDARD
BEGIN:DAYLIGHT
TZOFFSETFROM:-0500
TZOFFSETTO:-0400
TZNAME:EDT
DTSTART:20260308T070000
END:DAYLIGHT
BEGIN:STANDARD
TZOFFSETFROM:-0400
TZOFFSETTO:-0500
TZNAME:EST
DTSTART:20261101T060000
END:STANDARD
BEGIN:DAYLIGHT
TZOFFSETFROM:-0500
TZOFFSETTO:-0400
TZNAME:EDT
DTSTART:20270314T070000
END:DAYLIGHT
BEGIN:STANDARD
TZOFFSETFROM:-0400
TZOFFSETTO:-0500
TZNAME:EST
DTSTART:20271107T060000
END:STANDARD
END:VTIMEZONE
BEGIN:VEVENT
DTSTART;TZID=America/New_York:20260520T173000
DTEND;TZID=America/New_York:20260520T203000
DTSTAMP:20260421T042132
CREATED:20260317T194211Z
LAST-MODIFIED:20260317T194211Z
UID:7468-1779298200-1779309000@monmouthbarassociation.com
SUMMARY:Monmouth Bar Association Annual Installation Dinner
DESCRIPTION:Join us for our Monmouth Bar Association Annual Installation Dinner!!! \nWe will welcome our new President\, Richard P. Lomurro and the new Officers and Trustees for 2026-2027 term \nWednesday\, May 20\, 2026\nManasquan River Golf Club\n5:30 P.M. to 8:30 P.M.\n3 hour open\, buffet dinner and music by the Pat Roddy Band \nCost $95.00 Members and guests\n$80.00 Judges\, Law Clerks and Young Lawyers \nClick here to Pay \n  \n  \n 
URL:https://monmouthbarassociation.com/events/monmouth-bar-association-annual-installation-dinner/
LOCATION:Manasquan River Golf Club
END:VEVENT
BEGIN:VEVENT
DTSTART;TZID=America/New_York:20260617T140000
DTEND;TZID=America/New_York:20260617T160000
DTSTAMP:20260421T042132
CREATED:20260323T181734Z
LAST-MODIFIED:20260410T142555Z
UID:7471-1781704800-1781712000@monmouthbarassociation.com
SUMMARY:ARBITRATOR REFRESHER TRAINING COURSE
DESCRIPTION:MONMOUTH BAR ASSOCIATION ZOOMINAR \nARBITRATOR REFRESHER TRAINING 2026 \nWednesday\, June 17\, 2026 \n2:00 P.M. to 4:00 P.M. \nCost: $30 Members $45 Non-Members \nYou MUST pre-register for this program in order to receive the zoom access code to the seminar. \nClick here to Pay
URL:https://monmouthbarassociation.com/events/arbitrator-refresher-training-course/
END:VEVENT
END:VCALENDAR